BEGIN:VCALENDAR
VERSION:2.0
PRODID:-//Plone.org//NONSGML plone.app.event//EN
X-WR-TIMEZONE:Europe/Madrid
BEGIN:VEVENT
SUMMARY:Daniela\, pirata
DTSTART;TZID=Europe/Madrid;VALUE=DATE-TIME:20200310T173000
DTSTAMP;VALUE=DATE-TIME:20260421T074341Z
UID:2acb1a0031784bb7bf110c5999a25a9c@www.horche.org
ATTENDEE;CN="Cuentacuentos para niños y niñas de 4 a 8 años de edad";RO
 LE=REQ-PARTICIPANT:Cuentacuentos para niños y niñas de 4 a 8 años de ed
 ad
CREATED;VALUE=DATE-TIME:20200210T180102Z
LAST-MODIFIED;VALUE=DATE-TIME:20200210T180107Z
LOCATION:Casa de la Cultura
URL:https://www.horche.org/actualidad/agenda/daniela-pirata
END:VEVENT
BEGIN:VTIMEZONE
TZID:Europe/Madrid
X-LIC-LOCATION:Europe/Madrid
BEGIN:STANDARD
DTSTART;VALUE=DATE-TIME:20191027T020000
TZNAME:CET
TZOFFSETFROM:+0200
TZOFFSETTO:+0100
END:STANDARD
END:VTIMEZONE
END:VCALENDAR
