BEGIN:VCALENDAR
VERSION:2.0
PRODID:-//Plone.org//NONSGML plone.app.event//EN
X-WR-TIMEZONE:Europe/Madrid
BEGIN:VEVENT
SUMMARY:El cuerpo que habla
DTSTART;TZID=Europe/Madrid;VALUE=DATE-TIME:20200229T113000
DTEND;TZID=Europe/Madrid;VALUE=DATE-TIME:20200229T133000
DTSTAMP;VALUE=DATE-TIME:20260421T074720Z
UID:62d67d38c5044c6ab45f3d917e589feb@www.horche.org
ATTENDEE;CN="Taller de danza para mujeres impartido por Inma Haro";ROLE=RE
 Q-PARTICIPANT:Taller de danza para mujeres impartido por Inma Haro
CREATED;VALUE=DATE-TIME:20200210T175852Z
LAST-MODIFIED;VALUE=DATE-TIME:20200217T091127Z
LOCATION:Salón de Actos Casa de la Cultura
URL:https://www.horche.org/actualidad/agenda/el-cuerpo-que-habla
END:VEVENT
BEGIN:VTIMEZONE
TZID:Europe/Madrid
X-LIC-LOCATION:Europe/Madrid
BEGIN:STANDARD
DTSTART;VALUE=DATE-TIME:20191027T020000
TZNAME:CET
TZOFFSETFROM:+0200
TZOFFSETTO:+0100
END:STANDARD
END:VTIMEZONE
END:VCALENDAR
