BEGIN:VCALENDAR
VERSION:2.0
PRODID:-//Plone.org//NONSGML plone.app.event//EN
X-WR-TIMEZONE:Europe/Madrid
BEGIN:VEVENT
SUMMARY:EXPOSICIÓN DE PINTURA: ÁNGEL ESPIGA
DTSTART;TZID=Europe/Madrid;VALUE=DATE-TIME:20260508T190000
DTSTAMP;VALUE=DATE-TIME:20260422T134326Z
UID:c8017d55c0d64643a0779ccd97f4ea6a@www.horche.org
CATEGORIES:Agenda
CREATED;VALUE=DATE-TIME:20260422T094401Z
DESCRIPTION:'El color de la acuarela'
LAST-MODIFIED;VALUE=DATE-TIME:20260422T094408Z
LOCATION:Casa de la Cultura de Horche.
URL:https://www.horche.org/actualidad/agenda/exposicion-de-pintura-angel-e
 spiga
END:VEVENT
BEGIN:VTIMEZONE
TZID:Europe/Madrid
X-LIC-LOCATION:Europe/Madrid
BEGIN:DAYLIGHT
DTSTART;VALUE=DATE-TIME:20260329T030000
TZNAME:CEST
TZOFFSETFROM:+0100
TZOFFSETTO:+0200
END:DAYLIGHT
END:VTIMEZONE
END:VCALENDAR
