BEGIN:VCALENDAR
VERSION:2.0
PRODID:-//Plone.org//NONSGML plone.app.event//EN
X-WR-TIMEZONE:Europe/Madrid
BEGIN:VEVENT
SUMMARY:GRAN CORRIDA DE TOROS MIXTA
DTSTART;TZID=Europe/Madrid;VALUE=DATE-TIME:20260501T180000
DTSTAMP;VALUE=DATE-TIME:20260422T135717Z
UID:ba00693c2bd145549ce79a4e1e7be74f@www.horche.org
CATEGORIES:Agenda
CREATED;VALUE=DATE-TIME:20260422T093602Z
LAST-MODIFIED;VALUE=DATE-TIME:20260422T093612Z
LOCATION:Plaza de Toros de Horche
URL:https://www.horche.org/actualidad/agenda/gran-corrida-de-toros-mixta
END:VEVENT
BEGIN:VTIMEZONE
TZID:Europe/Madrid
X-LIC-LOCATION:Europe/Madrid
BEGIN:DAYLIGHT
DTSTART;VALUE=DATE-TIME:20260329T030000
TZNAME:CEST
TZOFFSETFROM:+0100
TZOFFSETTO:+0200
END:DAYLIGHT
END:VTIMEZONE
END:VCALENDAR
