BEGIN:VCALENDAR
VERSION:2.0
PRODID:-//Plone.org//NONSGML plone.app.event//EN
X-WR-TIMEZONE:Europe/Madrid
BEGIN:VEVENT
SUMMARY:Jornada Online Agroecología y Economía Circular en el marco de l
 a Custodia del Territorio: herramientas públicas hacia la Sostenibilidad
DTSTART;TZID=Europe/Madrid;VALUE=DATE-TIME:20221129T110000
DTEND;TZID=Europe/Madrid;VALUE=DATE-TIME:20221129T140000
DTSTAMP;VALUE=DATE-TIME:20260422T045729Z
UID:269f885c97714e889d37150b9fc7067d@www.horche.org
CREATED;VALUE=DATE-TIME:20221118T111207Z
LAST-MODIFIED;VALUE=DATE-TIME:20221118T111747Z
URL:https://www.horche.org/actualidad/agenda/jornada-online-agroecologia-y
 -economia-circular-en-el-marco-de-la-custodia-del-territorio-herramientas-
 publicas-hacia-la-sostenibilidad
END:VEVENT
BEGIN:VTIMEZONE
TZID:Europe/Madrid
X-LIC-LOCATION:Europe/Madrid
BEGIN:STANDARD
DTSTART;VALUE=DATE-TIME:20221030T020000
TZNAME:CET
TZOFFSETFROM:+0200
TZOFFSETTO:+0100
END:STANDARD
END:VTIMEZONE
END:VCALENDAR
