BEGIN:VCALENDAR
VERSION:2.0
PRODID:-//Plone.org//NONSGML plone.app.event//EN
X-WR-TIMEZONE:Europe/Madrid
BEGIN:VEVENT
SUMMARY:Taller para familias 'Educación en Derechos de la Infancia\, la p
 articipación'
DTSTART;TZID=Europe/Madrid;VALUE=DATE-TIME:20211123T173000
DTSTAMP;VALUE=DATE-TIME:20260426T034533Z
UID:ebe8f2b32d5845c18cf1f00e4ecf80ce@www.horche.org
ATTENDEE;CN="Con motivo del Día Mundial de la Infancia, que se celebra el
  sábado 20 de noviembre, el Ayuntamiento de Horche, además de este talle
 r 'Educación en Derechos de la Infancia, la participación' para familias
  el próximo día 23 en la Casa de la Cultura, impartirá también durante
  los días 15, 17, 18 y 29 de noviembre y el 1, 2 y 3 de diciembre otros t
 alleres para el alumnado del CEIP San Roque.";ROLE=REQ-PARTICIPANT:Con mot
 ivo del Día Mundial de la Infancia, que se celebra el sábado 20 de novie
 mbre, el Ayuntamiento de Horche, además de este taller "Educación en Der
 echos de la Infancia, la participación" para familias el próximo día 23
  en la Casa de la Cultura, impartirá también durante los días 15, 17, 1
 8 y 29 de noviembre y el 1, 2 y 3 de diciembre otros talleres para el alum
 nado del CEIP San Roque.
CREATED;VALUE=DATE-TIME:20211115T194647Z
LAST-MODIFIED;VALUE=DATE-TIME:20211115T195335Z
LOCATION:Casa de la Cultura
URL:https://www.horche.org/actualidad/agenda/taller-para-familias-dia-mund
 ial-de-la-infancia
END:VEVENT
BEGIN:VTIMEZONE
TZID:Europe/Madrid
X-LIC-LOCATION:Europe/Madrid
BEGIN:STANDARD
DTSTART;VALUE=DATE-TIME:20211031T020000
TZNAME:CET
TZOFFSETFROM:+0200
TZOFFSETTO:+0100
END:STANDARD
END:VTIMEZONE
END:VCALENDAR
